BEGIN:VCALENDAR
VERSION:2.0
PRODID:-//Welcome to Coyotehunter.net - The premier resource for coyote hunting tournaments, events and information! - ECPv6.15.13.1//NONSGML v1.0//EN
CALSCALE:GREGORIAN
METHOD:PUBLISH
X-WR-CALNAME:Welcome to Coyotehunter.net - The premier resource for coyote hunting tournaments, events and information!
X-ORIGINAL-URL:https://www.coyotehunter.net
X-WR-CALDESC:Events for Welcome to Coyotehunter.net - The premier resource for coyote hunting tournaments, events and information!
REFRESH-INTERVAL;VALUE=DURATION:PT1H
X-Robots-Tag:noindex
X-PUBLISHED-TTL:PT1H
BEGIN:VTIMEZONE
TZID:UTC
BEGIN:STANDARD
TZOFFSETFROM:+0000
TZOFFSETTO:+0000
TZNAME:UTC
DTSTART:20160101T000000
END:STANDARD
END:VTIMEZONE
BEGIN:VEVENT
DTSTART;VALUE=DATE:20171201
DTEND;VALUE=DATE:20171203
DTSTAMP:20260424T153903
CREATED:20161128T021916Z
LAST-MODIFIED:20170503T163137Z
UID:200-1512086400-1512259199@www.coyotehunter.net
SUMMARY:Winter Classic - Mandan\, ND December 2\, 2017
DESCRIPTION:There will be a rules meeting at 7:00 p.m. Friday\, December 01\, 2017 at Baymont Inn and Suites in Mandan. Blocks will be distributed at that time. There will be a full check in on Saturday at 6:00 p.m. at the hotel parking lot. Entry will be $100\, you can register your team in the Pro Division for an additional $150 or Amateur Division for an additional $50.
URL:https://www.coyotehunter.net/event/winter-classic-mandan-nd-december-2-3-2016/
LOCATION:Baymont Inn\, Mandan \, ND\, United States
CATEGORIES:Tournament
ATTACH;FMTTYPE=image/jpeg:https://www.coyotehunter.net/wp-content/uploads/2012/06/18.jpg
ORGANIZER;CN="Jamie P Olson":MAILTO:joetoyoc@gmail.com
END:VEVENT
END:VCALENDAR